View In:
ArcGIS JavaScript
ArcGIS Online Map Viewer
ArcGIS Earth
Service Description: Seed_Collection_System/DFi_IDW
Name: Seed_Collection_System/DFi_IDW
Description:
Single Fused Map Cache: false
Extent:
XMin: 2052533.1419000002
YMin: 1422113.5621000007
XMax: 2815153.1419
YMax: 2211943.5621000007
Spatial Reference: 102605
(8826)
LatestVCSWkid(0)
Initial Extent:
XMin: 2052533.1419000002
YMin: 1422113.5621000007
XMax: 2815153.1419
YMax: 2211943.5621000007
Spatial Reference: 102605
(8826)
LatestVCSWkid(0)
Full Extent:
XMin: 2052533.1419000002
YMin: 1422113.5621000007
XMax: 2815153.1419
YMax: 2211943.5621000007
Spatial Reference: 102605
(8826)
LatestVCSWkid(0)
Pixel Size X: 10.0
Pixel Size Y: 10.0
Band Count: 1
Pixel Type: F32
RasterFunction Infos: {"rasterFunctionInfos": [{
"name": "None",
"description": "",
"help": ""
}]}
Mensuration Capabilities: Basic
Inspection Capabilities:
Has Histograms: true
Has Colormap: false
Has Multi Dimensions : false
Rendering Rule:
Min Scale: 0
Max Scale: 0
Resampling: false
Copyright Text:
Service Data Type: esriImageServiceDataTypeGeneric
Min Values: 133.70700073242188
Max Values: 319.0270080566406
Mean Values: 240.41961788176053
Standard Deviation Values: 36.984006706499954
Object ID Field:
Fields:
None
Default Mosaic Method: Center
Allowed Mosaic Methods:
SortField:
SortValue: null
Mosaic Operator: First
Default Compression Quality: 75
Default Resampling Method: Bilinear
Max Record Count: null
Max Image Height: 4100
Max Image Width: 15000
Max Download Image Count: null
Max Mosaic Image Count: null
Allow Raster Function: true
Allow Copy: true
Allow Analysis: true
Allow Compute TiePoints: false
Supports Statistics: false
Supports Advanced Queries: false
Use StandardizedQueries: true
Raster Type Infos:
Name: Raster Dataset
Description: Supports all ArcGIS Raster Datasets
Help:
Has Raster Attribute Table: false
Edit Fields Info: null
Ownership Based AccessControl For Rasters: null
Child Resources:
Info
Histograms
Statistics
Key Properties
Legend
Raster Function Infos
Supported Operations:
Export Image
Identify
Measure
Compute Histograms
Compute Statistics Histograms
Get Samples
Compute Class Statistics
Query Boundary
Compute Pixel Location
Compute Angles
Validate
Project