View In:
ArcGIS JavaScript
ArcGIS Online Map Viewer
ArcGIS Earth
Service Description: Seed_Collection_System/North_Medium_Western_Larch
Name: Seed_Collection_System/North_Medium_Western_Larch
Description:
Single Fused Map Cache: false
Extent:
XMin: 2053192.6116000004
YMin: 1534572.7166000009
XMax: 2571872.6116000004
YMax: 2211942.716600001
Spatial Reference: 102605
(8826)
LatestVCSWkid(0)
Initial Extent:
XMin: 2053192.6116000004
YMin: 1534572.7166000009
XMax: 2571872.6116000004
YMax: 2211942.716600001
Spatial Reference: 102605
(8826)
LatestVCSWkid(0)
Full Extent:
XMin: 2053192.6116000004
YMin: 1534572.7166000009
XMax: 2571872.6116000004
YMax: 2211942.716600001
Spatial Reference: 102605
(8826)
LatestVCSWkid(0)
Pixel Size X: 10.0
Pixel Size Y: 10.0
Band Count: 1
Pixel Type: U8
RasterFunction Infos: {"rasterFunctionInfos": [{
"name": "None",
"description": "",
"help": ""
}]}
Mensuration Capabilities: Basic
Inspection Capabilities:
Has Histograms: true
Has Colormap: false
Has Multi Dimensions : false
Rendering Rule:
Min Scale: 0
Max Scale: 0
Resampling: false
Copyright Text:
Service Data Type: esriImageServiceDataTypeThematic
Min Values: 0
Max Values: 2
Mean Values: 0.8962368450535432
Standard Deviation Values: 0.8734912320653221
Object ID Field:
Fields:
None
Default Mosaic Method: Center
Allowed Mosaic Methods:
SortField:
SortValue: null
Mosaic Operator: First
Default Compression Quality: 75
Default Resampling Method: Bilinear
Max Record Count: null
Max Image Height: 4100
Max Image Width: 15000
Max Download Image Count: null
Max Mosaic Image Count: null
Allow Raster Function: true
Allow Copy: true
Allow Analysis: true
Allow Compute TiePoints: false
Supports Statistics: false
Supports Advanced Queries: false
Use StandardizedQueries: true
Raster Type Infos:
Name: Raster Dataset
Description: Supports all ArcGIS Raster Datasets
Help:
Has Raster Attribute Table: true
Edit Fields Info: null
Ownership Based AccessControl For Rasters: null
Child Resources:
Info
Raster Attribute Table
Histograms
Statistics
Key Properties
Legend
Raster Function Infos
Supported Operations:
Export Image
Identify
Measure
Compute Histograms
Compute Statistics Histograms
Get Samples
Compute Class Statistics
Query Boundary
Compute Pixel Location
Compute Angles
Validate
Project